Workbook
Name _ftn1: App_EGfields!$A$25
Name _ftnref1: App_EGfields!#REF!

Sheet Intro
A1: EUROGRADUATE 2022 codebook version 6 (15.05.2025)
A3: Content | B3: Sheet
A4: Survey variables
A5: Education history | B5: A_Education
A6: Transition, work and work history | B6: B_Work
A7: Competencies | B7: C_Competencies
A8: Mobility | B8: D_Mobility
A9: Personal and social background | B9: E_Personal
A10: EU Module | B10: F_EUModule
A11: Final questions | B11: G_Finalquestions
A12: Calculated variables Variables calculated for analysis, reporting, and indicator building during central data harmonization | B12: H_CalculatedVariables
A13: Appendix lists for standardized response lists
A14: EG custom study fields | B14: App_EGfields
A15: ISCED-F-2013 study fields on 3- and 4-digit level | B15: App_ISCED-F-2013
A16: NUTS3 codes | B16: App_NUTS3
A17: Languages | B17: App_languages
A18: Countries | B18: App_countries
A19: Currencies | B19: App_currencies
A20: ISCO-08 occupations on 1-,2- and 3-digit level | B20: App_occupations
A21: NACE business sectors on 1- and 2-digit level | B21: App_businesssectors
A22: Missing codings | B22: Missing_codings

Sheet A_Education
A1: Module | B1: Filter conditions | C1: Target group (verbal) | D1: Variable name | E1: Item Block | F1: Variable Label | G1: Question text | H1: Values format | I1: Data set value | J1: Value labels (answer categories) | K1: Question type | L1: Variable scale | M1: Remarks | N1: Anonymization note
D2: A1 | F2: Course of study | M2: Questionnaire heading
D3: A1_1 | F3: Course of study (instruction) | G3: To start with, please tell us more about the study programme you graduated from in yyyy/yyyy. If you graduated that year from more than one programme, please provide the information for the study programme that you yourself consider the most relevant. | M3: Instruction for a1.1
A4: A | D4: a1_1a1yr | F4: Year of reference programme start | G4: When did you start your study programme? [YEAR] | H4: Numeric | I4: 1 | J4: before 2000 | K4: Drop down menu | L4: categorical | N4: =IF(D4="",N3,IF(AND(D4<>"",ISERROR(MATCH(D4,Var_view!$A$1:$A$646,0))),"Aggregated or removed for anonymization","")) -> Aggregated or removed for anonymization
I5: 2000 | J5: 2000 | N5: =IF(D5="",N4,IF(AND(D5<>"",ISERROR(MATCH(D5,Var_view!$A$1:$A$646,0))),"Aggregated or removed for anonymization","")) -> Aggregated or removed for anonymization
I6: 2001 | J6: 2001 | N6: =IF(D6="",N5,IF(AND(D6<>"",ISERROR(MATCH(D6,Var_view!$A$1:$A$646,0))),"Aggregated or removed for anonymization","")) -> Aggregated or removed for anonymization
I7: 2002 | J7: 2002 | N7: =IF(D7="",N6,IF(AND(D7<>"",ISERROR(MATCH(D7,Var_view!$A$1:$A$646,0))),"Aggregated or removed for anonymization","")) -> Aggregated or removed for anonymization
I8: 2003 | J8: 2003 | N8: =IF(D8="",N7,IF(AND(D8<>"",ISERROR(MATCH(D8,Var_view!$A$1:$A$646,0))),"Aggregated or removed for anonymization","")) -> Aggregated or removed for anonymization
I9: 2004 | J9: 2004 | N9: =IF(D9="",N8,IF(AND(D9<>"",ISERROR(MATCH(D9,Var_view!$A$1:$A$646,0))),"Aggregated or removed for anonymization","")) -> Aggregated or removed for anonymization
I10: 2005 | J10: 2005 | N10: =IF(D10="",N9,IF(AND(D10<>"",ISERROR(MATCH(D10,Var_view!$A$1:$A$646,0))),"Aggregated or removed for anonymization","")) -> Aggregated or removed for anonymization
I11: 2006 | J11: 2006 | N11: =IF(D11="",N10,IF(AND(D11<>"",ISERROR(MATCH(D11,Var_view!$A$1:$A$646,0))),"Aggregated or removed for anonymization","")) -> Aggregated or removed for anonymization
I12: 2007 | J12: 2007 | N12: =IF(D12="",N11,IF(AND(D12<>"",ISERROR(MATCH(D12,Var_view!$A$1:$A$646,0))),"Aggregated or removed for anonymization","")) -> Aggregated or removed for anonymization
I13: 2008 | J13: 2008 | N13: =IF(D13="",N12,IF(AND(D13<>"",ISERROR(MATCH(D13,Var_view!$A$1:$A$646,0))),"Aggregated or removed for anonymization","")) -> Aggregated or removed for anonymization
I14: 2009 | J14: 2009 | N14: =IF(D14="",N13,IF(AND(D14<>"",ISERROR(MATCH(D14,Var_view!$A$1:$A$646,0))),"Aggregated or removed for anonymization","")) -> Aggregated or removed for anonymization
I15: 2010 | J15: 2010 | N15: =IF(D15="",N14,IF(AND(D15<>"",ISERROR(MATCH(D15,Var_view!$A$1:$A$646,0))),"Aggregated or removed for anonymization","")) -> Aggregated or removed for anonymization
I16: 2011 | J16: 2011 | N16: =IF(D16="",N15,IF(AND(D16<>"",ISERROR(MATCH(D16,Var_view!$A$1:$A$646,0))),"Aggregated or removed for anonymization","")) -> Aggregated or removed for anonymization
... I26: 2021 | J26: 2021 | N26: =IF(D26="",N25,IF(AND(D26<>"",ISERROR(MATCH(D26,Var_view!$A$1:$A$646,0))),"Aggregated or removed for anonymization","")) -> Aggregated or removed for anonymization
A27: A | D27: a1_1a1mo | F27: Month of reference programme start | G27: When did you start your study programme? [MONTH] | H27: Numeric | I27: 1 | J27: January | K27: Drop down menu | L27: categorical | N27: =IF(D27="",N26,IF(AND(D27<>"",ISERROR(MATCH(D27,Var_view!$A$1:$A$646,0))),"Aggregated or removed for anonymization","")) -> Aggregated or removed for anonymization
I28: 2 | J28: Febuary | N28: =IF(D28="",N27,IF(AND(D28<>"",ISERROR(MATCH(D28,Var_view!$A$1:$A$646,0))),"Aggregated or removed for anonymization","")) -> Aggregated or removed for anonymization
I29: 3 | J29: March | N29: =IF(D29="",N28,IF(AND(D29<>"",ISERROR(MATCH(D29,Var_view!$A$1:$A$646,0))),"Aggregated or removed for anonymization","")) -> Aggregated or removed for anonymization
I30: 4 | J30: April | N30: =IF(D30="",N29,IF(AND(D30<>"",ISERROR(MATCH(D30,Var_view!$A$1:$A$646,0))),"Aggregated or removed for anonymization","")) -> Aggregated or removed for anonymization
I31: 5 | J31: May | N31: =IF(D31="",N30,IF(AND(D31<>"",ISERROR(MATCH(D31,Var_view!$A$1:$A$646,0))),"Aggregated or removed for anonymization","")) -> Aggregated or removed for anonymization
I32: 6 | J32: June | N32: =IF(D32="",N31,IF(AND(D32<>"",ISERROR(MATCH(D32,Var_view!$A$1:$A$646,0))),"Aggregated or removed for anonymization","")) -> Aggregated or removed for anonymization
I33: 7 | J33: July | N33: =IF(D33="",N32,IF(AND(D33<>"",ISERROR(MATCH(D33,Var_view!$A$1:$A$646,0))),"Aggregated or removed for anonymization","")) -> Aggregated or removed for anonymization
I34: 8 | J34: August | N34: =IF(D34="",N33,IF(AND(D34<>"",ISERROR(MATCH(D34,Var_view!$A$1:$A$646,0))),"Aggregated or removed for anonymization","")) -> Aggregated or removed for anonymization
I35: 9 | J35: September | N35: =IF(D35="",N34,IF(AND(D35<>"",ISERROR(MATCH(D35,Var_view!$A$1:$A$646,0))),"Aggregated or removed for anonymization","")) -> Aggregated or removed for anonymization
I36: 10 | J36: October | N36: =IF(D36="",N35,IF(AND(D36<>"",ISERROR(MATCH(D36,Var_view!$A$1:$A$646,0))),"Aggregated or removed for anonymization","")) -> Aggregated or removed for anonymization
I37: 11 | J37: November | N37: =IF(D37="",N36,IF(AND(D37<>"",ISERROR(MATCH(D37,Var_view!$A$1:$A$646,0))),"Aggregated or removed for anonymization","")) -> Aggregated or removed for anonymization
I38: 12 | J38: December | N38: =IF(D38="",N37,IF(AND(D38<>"",ISERROR(MATCH(D38,Var_view!$A$1:$A$646,0))),"Aggregated or removed for anonymization","")) -> Aggregated or removed for anonymization
A39: A | D39: a1_1a2yr | F39: Year of graduation (reference programme) | G39: When did you graduate from your study programme? [YEAR] Please refer to the date of your last successful examination. | H39: Numeric | I39: 1 | J39: before 2000 | K39: Drop down menu | L39: categorical | N39: =IF(D39="",N38,IF(AND(D39<>"",ISERROR(MATCH(D39,Var_view!$A$1:$A$646,0))),"Aggregated or removed for anonymization",""))
I40: 2000 | J40: 2000 | N40: =IF(D40="",N39,IF(AND(D40<>"",ISERROR(MATCH(D40,Var_view!$A$1:$A$646,0))),"Aggregated or removed for anonymization",""))
I41: 2001 | J41: 2001 | N41: =IF(D41="",N40,IF(AND(D41<>"",ISERROR(MATCH(D41,Var_view!$A$1:$A$646,0))),"Aggregated or removed for anonymization",""))
I42: 2002 | J42: 2002 | N42: =IF(D42="",N41,IF(AND(D42<>"",ISERROR(MATCH(D42,Var_view!$A$1:$A$646,0))),"Aggregated or removed for anonymization",""))
I43: 2003 | J43: 2003 | N43: =IF(D43="",N42,IF(AND(D43<>"",ISERROR(MATCH(D43,Var_view!$A$1:$A$646,0))),"Aggregated or removed for anonymization",""))
I44: 2004 | J44: 2004 | N44: =IF(D44="",N43,IF(AND(D44<>"",ISERROR(MATCH(D44,Var_view!$A$1:$A$646,0))),"Aggregated or removed for anonymization",""))
I45: 2005 | J45: 2005 | N45: =IF(D45="",N44,IF(AND(D45<>"",ISERROR(MATCH(D45,Var_view!$A$1:$A$646,0))),"Aggregated or removed for anonymization",""))
I46: 2006 | J46: 2006 | N46: =IF(D46="",N45,IF(AND(D46<>"",ISERROR(MATCH(D46,Var_view!$A$1:$A$646,0))),"Aggregated or removed for anonymization",""))
I47: 2007 | J47: 2007 | N47: =IF(D47="",N46,IF(AND(D47<>"",ISERROR(MATCH(D47,Var_view!$A$1:$A$646,0))),"Aggregated or removed for anonymization",""))
I48: 2008 | J48: 2008 | N48: =IF(D48="",N47,IF(AND(D48<>"",ISERROR(MATCH(D48,Var_view!$A$1:$A$646,0))),"Aggregated or removed for anonymization",""))
I49: 2009 | J49: 2009 | N49: =IF(D49="",N48,IF(AND(D49<>"",ISERROR(MATCH(D49,Var_view!$A$1:$A$646,0))),"Aggregated or removed for anonymization",""))
...

Sheet B_Work
A1: Module | B1: Filter conditions | C1: Target group (verbal) | D1: Variable name | E1: Item Block | F1: Variable Label | G1: Question text | H1: Values format | I1: Data set value | J1: Value labels (answer categories) | K1: Question type | L1: Variable scale | M1: Remarks | N1: Anonymization note
D2: B1 | F2: Current situation | M2: Questionnaire heading
A3: A | B3: (a3.7.1 ≠ 1 AND a3.7.2 ≠ 1) AND (a3.7.1 = -99 OR a3.7.9 = 1) | C3: Respondents who do not report being employed/self-employed and whose answer on a3.7 leaves their employment status unclear | D3: b1_0 | F3: Routing question if unclear whether currently working | G3: Are you currently in paid employment? Include self-employment | H3: Numeric | I3: 2 | J3: yes | K3: Single-choice question | L3: categorical (dichotomous) | N3: =IF(D3="",N2,IF(AND(D3<>"",ISERROR(MATCH(D3,Var_view!$A$1:$A$646,0))),"Aggregated or removed for anonymization",""))
I4: 1 | J4: no, but I do unpaid work in family busines | N4: =IF(D4="",N3,IF(AND(D4<>"",ISERROR(MATCH(D4,Var_view!$A$1:$A$646,0))),"Aggregated or removed for anonymization",""))
I5: 0 | J5: no | N5: =IF(D5="",N4,IF(AND(D5<>"",ISERROR(MATCH(D5,Var_view!$A$1:$A$646,0))),"Aggregated or removed for anonymization",""))
A6: A | B6: a3.7.5 = 1 AND (a3.7.1 = 1 OR a3.7.2 = 1) | C6: Respondents who reported to currently be on parental leave and employed/self-employed | D6: b1_0_1 (not included in EG dataset) | F6: Clarification question if on parental leave and employed/self-employed at the same time | G6: You reported to be on parental leave and to be employed or self-employed at the same time. Which of the following applies to your current situation? Please select all that apply. | H6: Numeric | I6: 1 | J6: I am on parental leave with an ongoing employment contract. | K6: Multiple-choice question | L6: categorical | M6: Since multiple response option can be selected in b1.0.1, separate binary variables have to be created for each response option. Hence, the base variable b1.0.1 will not be included in the dataset. | N6: =IF(D6="",N5,IF(AND(D6<>"",ISERROR(MATCH(D6,Var_view!$A$1:$A$646,0))),"Aggregated or removed for anonymization","")) -> Aggregated or removed for anonymization
I7: 2 | J7: I am on parental leave and work in parallel. | N7: =IF(D7="",N6,IF(AND(D7<>"",ISERROR(MATCH(D7,Var_view!$A$1:$A$646,0))),"Aggregated or removed for anonymization","")) -> Aggregated or removed for anonymization
I8: 3 | J8: none of the above, but […] | N8: =IF(D8="",N7,IF(AND(D8<>"",ISERROR(MATCH(D8,Var_view!$A$1:$A$646,0))),"Aggregated or removed for anonymization","")) -> Aggregated or removed for anonymization
A9: A | B9: a3.7.5 = 1 AND (a3.7.1 = 1 OR a3.7.2 = 1) | C9: Respondents who reported to currently be on parental leave and employed/self-employed | D9: b1_0_1_1 | F9: Parental leave and employed/self-employed: Partenal leave with ongoing employment contract | G9: You reported to be on parental leave and to be employed or self-employed at the same time. Which of the following applies to your current situation? I am on parental leave with an ongoing employment contract. | H9: Numeric | I9: 1 | J9: yes | K9: Multiple-choice question | L9: categorical (dichotomous) | M9: Since multiple response option can be selected in a3.7, separate binary variables have to be created for each response option. | N9: =IF(D9="",N8,IF(AND(D9<>"",ISERROR(MATCH(D9,Var_view!$A$1:$A$646,0))),"Aggregated or removed for anonymization",""))
I10: 0 | J10: no | N10: =IF(D10="",N9,IF(AND(D10<>"",ISERROR(MATCH(D10,Var_view!$A$1:$A$646,0))),"Aggregated or removed for anonymization",""))
A11: A | B11: a3.7.5 = 1 AND (a3.7.1 = 1 OR a3.7.2 = 1) | C11: Respondents who reported to currently be on parental leave and employed/self-employed | D11: b1_0_1_2 | F11: Parental leave and employed/self-employed: Partenal leave and work in parellel | G11: You reported to be on parental leave and to be employed or self-employed at the same time. Which of the following applies to your current situation? I am on parental leave and work in parallel. | H11: Numeric | I11: 1 | J11: yes | K11: Multiple-choice question | L11: categorical (dichotomous) | M11: Since multiple response option can be selected in a3.7, separate binary variables have to be created for each response option. | N11: =IF(D11="",N10,IF(AND(D11<>"",ISERROR(MATCH(D11,Var_view!$A$1:$A$646,0))),"Aggregated or removed for anonymization",""))
I12: 0 | J12: no | N12: =IF(D12="",N11,IF(AND(D12<>"",ISERROR(MATCH(D12,Var_view!$A$1:$A$646,0))),"Aggregated or removed for anonymization",""))
A13: A | B13: a3.7.5 = 1 AND (a3.7.1 = 1 OR a3.7.2 = 1) | C13: Respondents who reported to currently be on parental leave and employed/self-employed | D13: b1_0_1_3 | F13: Parental leave and employed/self-employed: Other | G13: You reported to be on parental leave and to be employed or self-employed at the same time. Which of the following applies to your current situation? none of the above, but […] | H13: Numeric | I13: 1 | J13: yes | K13: Multiple-choice question | L13: categorical (dichotomous) | M13: Since multiple response option can be selected in a3.7, separate binary variables have to be created for each response option. | N13: =IF(D13="",N12,IF(AND(D13<>"",ISERROR(MATCH(D13,Var_view!$A$1:$A$646,0))),"Aggregated or removed for anonymization",""))
I14: 0 | J14: no | N14: =IF(D14="",N13,IF(AND(D14<>"",ISERROR(MATCH(D14,Var_view!$A$1:$A$646,0))),"Aggregated or removed for anonymization",""))
A15: A | B15: b1.0.1.3 = 1 | C15: Respondents who reported to currently be on parental leave and employed/self-employed | D15: b1_0_1_3open (not included in EG dataset) | F15: Parental leave clarification (open field description) | G15: none of the above, but […] | H15: Open text | K15: Open text field | L15: categorical | M15: Open text field specifying b1.0.1 if b1.0.1 = 3. This variable requires manual recoding into the target variable(s) and will not be included in the EG dataset. | N15: =IF(D15="",N14,IF(AND(D15<>"",ISERROR(MATCH(D15,Var_view!$A$1:$A$646,0))),"Aggregated or removed for anonymization","")) -> Aggregated or removed for anonymization
A16: A | B16: a3.7.1 = 1 OR a3.7.2 = 1 OR b1.0 = 2 | C16: Respondents who reported to be employed/self-employed | D16: b1_1 | F16: More than one job | G16: Do you have more than one job? Include self-employment | H16: Numeric | I16: 1 | J16: yes, I have more than one job | K16: Single-choice question | L16: categorical (dichotomous) | N16: =IF(D16="",N15,IF(AND(D16<>"",ISERROR(MATCH(D16,Var_view!$A$1:$A$646,0))),"Aggregated or removed for anonymization",""))
I17: 0 | J17: no | N17: =IF(D17="",N16,IF(AND(D17<>"",ISERROR(MATCH(D17,Var_view!$A$1:$A$646,0))),"Aggregated or removed for anonymization",""))
A18: B | B18: a3.7.1 = 1 OR a3.7.2 = 1 OR b1.0 = 2 | C18: Respondents who reported to be employed/self-employed | D18: b1_2 | F18: Instruction before B1.2 | G18: - Please answer the following questions referring to your current employment or self-employment. - If you have more than one job or company, please refer to the job or company which you consider most important. | M18: Instruction for b1.2 | N18: =IF(D18="",N17,IF(AND(D18<>"",ISERROR(MATCH(D18,Var_view!$A$1:$A$646,0))),"Aggregated or removed for anonymization","")) -> Aggregated or removed for anonymization
A19: B | B19: a3.7.1 = 1 OR a3.7.2 = 1 OR b1.0 = 2 | C19: Respondents who reported to be employed/self-employed | D19: b1_2a_yr | F19: Start date of employment (year) | G19: When did you start working with your current employer / in self-employment? [YEAR] | H19: Numeric | I19: 1 | J19: before 1970 | K19: Drop down menu | L19: categorical | N19: =IF(D19="",N18,IF(AND(D19<>"",ISERROR(MATCH(D19,Var_view!$A$1:$A$646,0))),"Aggregated or removed for anonymization","")) -> Aggregated or removed for anonymization
I20: 1970 | J20: 1970 | N20: =IF(D20="",N19,IF(AND(D20<>"",ISERROR(MATCH(D20,Var_view!$A$1:$A$646,0))),"Aggregated or removed for anonymization","")) -> Aggregated or removed for anonymization
I21: 1971 | J21: 1971 | N21: =IF(D21="",N20,IF(AND(D21<>"",ISERROR(MATCH(D21,Var_view!$A$1:$A$646,0))),"Aggregated or removed for anonymization","")) -> Aggregated or removed for anonymization
I22: 1972 | J22: 1972 | N22: =IF(D22="",N21,IF(AND(D22<>"",ISERROR(MATCH(D22,Var_view!$A$1:$A$646,0))),"Aggregated or removed for anonymization","")) -> Aggregated or removed for anonymization
I23: 1973 | J23: 1973 | N23: =IF(D23="",N22,IF(AND(D23<>"",ISERROR(MATCH(D23,Var_view!$A$1:$A$646,0))),"Aggregated or removed for anonymization","")) -> Aggregated or removed for anonymization
I24: 1974 | J24: 1974 | N24: =IF(D24="",N23,IF(AND(D24<>"",ISERROR(MATCH(D24,Var_view!$A$1:$A$646,0))),"Aggregated or removed for anonymization","")) -> Aggregated or removed for anonymization
I25: 1975 | J25: 1975 | N25: =IF(D25="",N24,IF(AND(D25<>"",ISERROR(MATCH(D25,Var_view!$A$1:$A$646,0))),"Aggregated or removed for anonymization","")) -> Aggregated or removed for anonymization
I26: 1976 | J26: 1976 | N26: =IF(D26="",N25,IF(AND(D26<>"",ISERROR(MATCH(D26,Var_view!$A$1:$A$646,0))),"Aggregated or removed for anonymization","")) -> Aggregated or removed for anonymization
I27: 1977 | J27: 1977 | N27: =IF(D27="",N26,IF(AND(D27<>"",ISERROR(MATCH(D27,Var_view!$A$1:$A$646,0))),"Aggregated or removed for anonymization","")) -> Aggregated or removed for anonymization
I28: 1978 | J28: 1978 | N28: =IF(D28="",N27,IF(AND(D28<>"",ISERROR(MATCH(D28,Var_view!$A$1:$A$646,0))),"Aggregated or removed for anonymization","")) -> Aggregated or removed for anonymization
I29: 1979 | J29: 1979 | N29: =IF(D29="",N28,IF(AND(D29<>"",ISERROR(MATCH(D29,Var_view!$A$1:$A$646,0))),"Aggregated or removed for anonymization","")) -> Aggregated or removed for anonymization
I30: 1980 | J30: 1980 | N30: =IF(D30="",N29,IF(AND(D30<>"",ISERROR(MATCH(D30,Var_view!$A$1:$A$646,0))),"Aggregated or removed for anonymization","")) -> Aggregated or removed for anonymization
I31: 1981 | J31: 1981 | N31: =IF(D31="",N30,IF(AND(D31<>"",ISERROR(MATCH(D31,Var_view!$A$1:$A$646,0))),"Aggregated or removed for anonymization","")) -> Aggregated or removed for anonymization
... I72: 2022 | J72: 2022 | N72: =IF(D72="",N71,IF(AND(D72<>"",ISERROR(MATCH(D72,Var_view!$A$1:$A$646,0))),"Aggregated or removed for anonymization","")) -> Aggregated or removed for anonymization
A73: B | B73: a3.7.1 = 1 OR a3.7.2 = 1 OR b1.0 = 2 | C73: Respondents who reported to be employed/self-employed | D73: b1_2a_mo | F73: Start date of employment (month) | G73: When did you start working with your current employer / in self-employment? [MONTH] | H73: Numeric | I73: 1 | J73: January | K73: Drop down menu | L73: categorical | N73: =IF(D73="",N72,IF(AND(D73<>"",ISERROR(MATCH(D73,Var_view!$A$1:$A$646,0))),"Aggregated or removed for anonymization","")) -> Aggregated or removed for anonymization
I74: 2 | J74: Febuary | N74: =IF(D74="",N73,IF(AND(D74<>"",ISERROR(MATCH(D74,Var_view!$A$1:$A$646,0))),"Aggregated or removed for anonymization","")) -> Aggregated or removed for anonymization
I75: 3 | J75: March | N75: =IF(D75="",N74,IF(AND(D75<>"",ISERROR(MATCH(D75,Var_view!$A$1:$A$646,0))),"Aggregated or removed for anonymization","")) -> Aggregated or removed for anonymization
I76: 4 | J76: April | N76: =IF(D76="",N75,IF(AND(D76<>"",ISERROR(MATCH(D76,Var_view!$A$1:$A$646,0))),"Aggregated or removed for anonymization","")) -> Aggregated or removed for anonymization
I77: 5 | J77: May | N77: =IF(D77="",N76,IF(AND(D77<>"",ISERROR(MATCH(D77,Var_view!$A$1:$A$646,0))),"Aggregated or removed for anonymization","")) -> Aggregated or removed for anonymization
I78: 6 | J78: June | N78: =IF(D78="",N77,IF(AND(D78<>"",ISERROR(MATCH(D78,Var_view!$A$1:$A$646,0))),"Aggregated or removed for anonymization","")) -> Aggregated or removed for anonymization
I79: 7 | J79: July | N79: =IF(D79="",N78,IF(AND(D79<>"",ISERROR(MATCH(D79,Var_view!$A$1:$A$646,0))),"Aggregated or removed for anonymization","")) -> Aggregated or removed for anonymization
I80: 8 | J80: August | N80: =IF(D80="",N79,IF(AND(D80<>"",ISERROR(MATCH(D80,Var_view!$A$1:$A$646,0))),"Aggregated or removed for anonymization","")) -> Aggregated or removed for anonymization
...

Sheet C_Competencies
A1: Module | B1: Filter conditions | C1: Target group (verbal) | D1: Variable name | E1: Item Block | F1: Variable Label | G1: Question text | H1: Values format | I1: Data set value | J1: Value labels (answer categories) | K1: Question type | L1: Variable scale | M1: Remarks | N1: Anonymization note
A2: B | B2: a3.7.1 = 1 OR a3.7.2 = 1 OR b1.0 = 2 | C2: Respondents who reported to be employed/self-employed | D2: c1emp | E2: c1 | F2: Instruction for respondents that are currently employed or self-employed | G2: In the following, we list 12 competencies. Please rate on each competence, firstly, the level of competence required in your current work and, secondly, your current own level. | M2: Instruction for c1 if currently employed
A3: B | B3: a3.7.1 ≠ 1 AND a3.7.2 ≠ 1 AND (a3.7.3 = 1 OR a3.7.4 = 1 OR a3.7.5 = 1 OR a3.7.6 = 1 OR a3.7.7 = 1 OR b1.0 ≠ 2) | C3: Respondents who reported to neither be employed nor self-employed | D3: c1nemp | E3: c1 | F3: Instruction for respondents that are currently neither employed nor self-employed | G3: In the following, we list 12 competencies. Please rate on each competence your current own level. | M3: Instruction for c1 if currently unemployed
A4: B | B4: a3.7.1 = 1 OR a3.7.2 = 1 OR b1.0 = 2 | C4: Respondents who reported to be employed/self-employed | D4: c1a_a | E4: c1 | F4: Required level in current work: Mastery of your own field or discipline | G4: Required level in current work: Mastery of your own field or discipline | H4: Numeric | I4: 1 | J4: very low | K4: 5-point-Likert-Scale | L4: ordinal | N4: =IF(D4="",N3,IF(AND(D4<>"",ISERROR(MATCH(D4,Var_view!$A$1:$A$646,0))),"Aggregated or removed for anonymization",""))
I5: 2 | N5: =IF(D5="",N4,IF(AND(D5<>"",ISERROR(MATCH(D5,Var_view!$A$1:$A$646,0))),"Aggregated or removed for anonymization",""))
I6: 3 | N6: =IF(D6="",N5,IF(AND(D6<>"",ISERROR(MATCH(D6,Var_view!$A$1:$A$646,0))),"Aggregated or removed for anonymization",""))
I7: 4 | N7: =IF(D7="",N6,IF(AND(D7<>"",ISERROR(MATCH(D7,Var_view!$A$1:$A$646,0))),"Aggregated or removed for anonymization",""))
I8: 5 | N8: =IF(D8="",N7,IF(AND(D8<>"",ISERROR(MATCH(D8,Var_view!$A$1:$A$646,0))),"Aggregated or removed for anonymization",""))
I9: 6 | N9: =IF(D9="",N8,IF(AND(D9<>"",ISERROR(MATCH(D9,Var_view!$A$1:$A$646,0))),"Aggregated or removed for anonymization",""))
I10: 7 | J10: very high | N10: =IF(D10="",N9,IF(AND(D10<>"",ISERROR(MATCH(D10,Var_view!$A$1:$A$646,0))),"Aggregated or removed for anonymization",""))
A11: B | D11: c1b_a | E11: c1 | F11: Current own level: Mastery of your own field or discipline | G11: Current own level: Mastery of your own field or discipline | H11: Numeric | I11: 1 | J11: very low | K11: 5-point-Likert-Scale | L11: ordinal | N11: =IF(D11="",N10,IF(AND(D11<>"",ISERROR(MATCH(D11,Var_view!$A$1:$A$646,0))),"Aggregated or removed for anonymization",""))
I12: 2 | N12: =IF(D12="",N11,IF(AND(D12<>"",ISERROR(MATCH(D12,Var_view!$A$1:$A$646,0))),"Aggregated or removed for anonymization",""))
I13: 3 | N13: =IF(D13="",N12,IF(AND(D13<>"",ISERROR(MATCH(D13,Var_view!$A$1:$A$646,0))),"Aggregated or removed for anonymization",""))
I14: 4 | N14: =IF(D14="",N13,IF(AND(D14<>"",ISERROR(MATCH(D14,Var_view!$A$1:$A$646,0))),"Aggregated or removed for anonymization",""))
I15: 5 | N15: =IF(D15="",N14,IF(AND(D15<>"",ISERROR(MATCH(D15,Var_view!$A$1:$A$646,0))),"Aggregated or removed for anonymization",""))
I16: 6 | N16: =IF(D16="",N15,IF(AND(D16<>"",ISERROR(MATCH(D16,Var_view!$A$1:$A$646,0))),"Aggregated or removed for anonymization",""))
I17: 7 | J17: very high | N17: =IF(D17="",N16,IF(AND(D17<>"",ISERROR(MATCH(D17,Var_view!$A$1:$A$646,0))),"Aggregated or removed for anonymization",""))
A18: B | B18: a3.7.1 = 1 OR a3.7.2 = 1 OR b1.0 = 2 | C18: Respondents who reported to be employed/self-employed | D18: c1a_b | E18: c1 | F18: Required level in current work: Analytical thinking | G18: Required level in current work: Analytical thinking | H18: Numeric | I18: 1 | J18: very low | K18: 5-point-Likert-Scale | L18: ordinal | N18: =IF(D18="",N17,IF(AND(D18<>"",ISERROR(MATCH(D18,Var_view!$A$1:$A$646,0))),"Aggregated or removed for anonymization",""))
I19: 2 | N19: =IF(D19="",N18,IF(AND(D19<>"",ISERROR(MATCH(D19,Var_view!$A$1:$A$646,0))),"Aggregated or removed for anonymization",""))
I20: 3 | N20: =IF(D20="",N19,IF(AND(D20<>"",ISERROR(MATCH(D20,Var_view!$A$1:$A$646,0))),"Aggregated or removed for anonymization",""))
I21: 4 | N21: =IF(D21="",N20,IF(AND(D21<>"",ISERROR(MATCH(D21,Var_view!$A$1:$A$646,0))),"Aggregated or removed for anonymization",""))
I22: 5 | N22: =IF(D22="",N21,IF(AND(D22<>"",ISERROR(MATCH(D22,Var_view!$A$1:$A$646,0))),"Aggregated or removed for anonymization",""))
I23: 6 | N23: =IF(D23="",N22,IF(AND(D23<>"",ISERROR(MATCH(D23,Var_view!$A$1:$A$646,0))),"Aggregated or removed for anonymization",""))
I24: 7 | J24: very high | N24: =IF(D24="",N23,IF(AND(D24<>"",ISERROR(MATCH(D24,Var_view!$A$1:$A$646,0))),"Aggregated or removed for anonymization",""))
A25: B | D25: c1b_b | E25: c1 | F25: Current own level: Analytical thinking | G25: Current own level: Analytical thinking | H25: Numeric | I25: 1 | J25: very low | K25: 5-point-Likert-Scale | L25: ordinal | N25: =IF(D25="",N24,IF(AND(D25<>"",ISERROR(MATCH(D25,Var_view!$A$1:$A$646,0))),"Aggregated or removed for anonymization",""))
I26: 2 | N26: =IF(D26="",N25,IF(AND(D26<>"",ISERROR(MATCH(D26,Var_view!$A$1:$A$646,0))),"Aggregated or removed for anonymization",""))
I27: 3 | N27: =IF(D27="",N26,IF(AND(D27<>"",ISERROR(MATCH(D27,Var_view!$A$1:$A$646,0))),"Aggregated or removed for anonymization",""))
I28: 4 | N28: =IF(D28="",N27,IF(AND(D28<>"",ISERROR(MATCH(D28,Var_view!$A$1:$A$646,0))),"Aggregated or removed for anonymization",""))
I29: 5 | N29: =IF(D29="",N28,IF(AND(D29<>"",ISERROR(MATCH(D29,Var_view!$A$1:$A$646,0))),"Aggregated or removed for anonymization",""))
I30: 6 | N30: =IF(D30="",N29,IF(AND(D30<>"",ISERROR(MATCH(D30,Var_view!$A$1:$A$646,0))),"Aggregated or removed for anonymization",""))
I31: 7 | J31: very high | N31: =IF(D31="",N30,IF(AND(D31<>"",ISERROR(MATCH(D31,Var_view!$A$1:$A$646,0))),"Aggregated or removed for anonymization",""))
A32: B | B32: a3.7.1 = 1 OR a3.7.2 = 1 OR b1.0 = 2 | C32: Respondents who reported to be employed/self-employed | D32: c1a_c | E32: c1 | F32: Required level in current work: Ability to rapidly acquire new knowledge | G32: Required level in current work: Ability to rapidly acquire new knowledge | H32: Numeric | I32: 1 | J32: very low | K32: 5-point-Likert-Scale | L32: ordinal | N32: =IF(D32="",N31,IF(AND(D32<>"",ISERROR(MATCH(D32,Var_view!$A$1:$A$646,0))),"Aggregated or removed for anonymization",""))
I33: 2 | N33: =IF(D33="",N32,IF(AND(D33<>"",ISERROR(MATCH(D33,Var_view!$A$1:$A$646,0))),"Aggregated or removed for anonymization",""))
I34: 3 | N34: =IF(D34="",N33,IF(AND(D34<>"",ISERROR(MATCH(D34,Var_view!$A$1:$A$646,0))),"Aggregated or removed for anonymization",""))
I35: 4 | N35: =IF(D35="",N34,IF(AND(D35<>"",ISERROR(MATCH(D35,Var_view!$A$1:$A$646,0))),"Aggregated or removed for anonymization",""))
I36: 5 | N36: =IF(D36="",N35,IF(AND(D36<>"",ISERROR(MATCH(D36,Var_view!$A$1:$A$646,0))),"Aggregated or removed for anonymization",""))
I37: 6 | N37: =IF(D37="",N36,IF(AND(D37<>"",ISERROR(MATCH(D37,Var_view!$A$1:$A$646,0))),"Aggregated or removed for anonymization",""))
I38: 7 | J38: very high | N38: =IF(D38="",N37,IF(AND(D38<>"",ISERROR(MATCH(D38,Var_view!$A$1:$A$646,0))),"Aggregated or removed for anonymization",""))
A39: B | D39: c1b_c | E39: c1 | F39: Current own level: Ability to rapidly acquire new knowledge | G39: Current own level: Ability to rapidly acquire new knowledge | H39: Numeric | I39: 1 | J39: very low | K39: 5-point-Likert-Scale | L39: ordinal | N39: =IF(D39="",N38,IF(AND(D39<>"",ISERROR(MATCH(D39,Var_view!$A$1:$A$646,0))),"Aggregated or removed for anonymization",""))
I40: 2 | N40: =IF(D40="",N39,IF(AND(D40<>"",ISERROR(MATCH(D40,Var_view!$A$1:$A$646,0))),"Aggregated or removed for anonymization",""))
...

Sheet D_Mobility
A1: Module | B1: Filter conditions | C1: Target group (verbal) | D1: Variable name | E1: Item Block | F1: Variable Label | G1: Question text | H1: Values format | I1: Data set value | J1: Value labels (answer categories) | K1: Question type | L1: Variable scale | M1: Remarks | N1: Anonymization note
D2: D1 | F2: Place of residence | M2: Questionnaire heading
A3: B | D3: d1_1 | F3: Place of residence during study programme | G3: Where did you mainly live during the study programme you graduated from in the academic year yyyy/yyyy? | H3: Numeric | I3: 1 | J3: same place as my higher education institution | K3: Single-choice question | L3: categorical | N3: =IF(D3="",N2,IF(AND(D3<>"",ISERROR(MATCH(D3,Var_view!$A$1:$A$646,0))),"Aggregated or removed for anonymization","")) -> Aggregated or removed for anonymization
I4: 2 | J4: other place in COUNTRY, more specifically in […] (please enter the postal code here). | N4: =IF(D4="",N3,IF(AND(D4<>"",ISERROR(MATCH(D4,Var_view!$A$1:$A$646,0))),"Aggregated or removed for anonymization","")) -> Aggregated or removed for anonymization
I5: 3 | J5: another place abroad, namely […] | N5: =IF(D5="",N4,IF(AND(D5<>"",ISERROR(MATCH(D5,Var_view!$A$1:$A$646,0))),"Aggregated or removed for anonymization","")) -> Aggregated or removed for anonymization
A6: B | B6: d1.1 = 2 | C6: Respondents who reported to have lived in another place than the higher education institution in COUNTRY during their study programme | D6: d1_1post | F6: Postal code of residence during study programme (if graduate lived in COUNTRY) | G6: in COUNTRY, more specifically in […] (please enter postal code here). | H6: String; Country code + NUTS level 3 | I6: [App_NUTS3] | J6: [App_NUTS3] | K6: Open text field | L6: categorical | M6: Open text field specifying d1.1 if d1.1 = 2. Please provide your data on NUTS level 3 (including country code). | N6: =IF(D6="",N5,IF(AND(D6<>"",ISERROR(MATCH(D6,Var_view!$A$1:$A$646,0))),"Aggregated or removed for anonymization","")) -> Aggregated or removed for anonymization
A7: B | B7: d1.1 = 3 | C7: Respondents who reported to have lived abroad during their study programme | D7: d1_1cntr | F7: Country ofresidence during study programme (if graduate lived abroad) | G7: abroad, namely in […] | H7: String, 3-character | I7: [App_countries] | J7: [App_countries] | K7: Drop down menu or open field with autocomplete function | L7: categorical | M7: Drop down menu/autocomplete field specifying d1.1 if d1.1 = 3. See the list of countries in the separate sheet "App_countries". | N7: =IF(D7="",N6,IF(AND(D7<>"",ISERROR(MATCH(D7,Var_view!$A$1:$A$646,0))),"Aggregated or removed for anonymization","")) -> Aggregated or removed for anonymization
A8: B | B8: cohort = "t+5" | C8: Respondents from cohort t + 5 | D8: d1_2 | F8: Place of residence in October 2018 | G8: Where did you mainly live in October 2018? | H8: Numeric | I8: 1 | J8: same place as during my study programme | K8: Single-choice question | L8: categorical | N8: =IF(D8="",N7,IF(AND(D8<>"",ISERROR(MATCH(D8,Var_view!$A$1:$A$646,0))),"Aggregated or removed for anonymization","")) -> Aggregated or removed for anonymization
I9: 2 | J9: other place in COUNTRY, more specifically in […] (please enter the postal code here). | N9: =IF(D9="",N8,IF(AND(D9<>"",ISERROR(MATCH(D9,Var_view!$A$1:$A$646,0))),"Aggregated or removed for anonymization","")) -> Aggregated or removed for anonymization
I10: 3 | J10: another place abroad, namely […] | N10: =IF(D10="",N9,IF(AND(D10<>"",ISERROR(MATCH(D10,Var_view!$A$1:$A$646,0))),"Aggregated or removed for anonymization","")) -> Aggregated or removed for anonymization
A11: B | B11: cohort = "t+5" AND d1.2 = 2 | C11: Respondents who reported to have lived in another place than the higher education institution in COUNTRY in October 2018 | D11: d1_2post | F11: Postal code of residence in October 2018 (if graduate lived in COUNTRY) | G11: in COUNTRY, more specifically in […] (please enter postal code here). | H11: String; Country code + NUTS level 3 | I11: [App_NUTS3] | J11: [App_NUTS3] | K11: Open text field | L11: categorical | M11: Open text field specifying d1.2 if d1.2 = 2. Please provide your data on NUTS level 3 (including country code). | N11: =IF(D11="",N10,IF(AND(D11<>"",ISERROR(MATCH(D11,Var_view!$A$1:$A$646,0))),"Aggregated or removed for anonymization","")) -> Aggregated or removed for anonymization
A12: B | B12: cohort = "t+5" AND d1.2 = 3 | C12: Respondents who reported to have lived abroad in October 2018 | D12: d1_2cntr | F12: Country of residence in October 2018 (if graduate lived abroad) | G12: abroad, namely in […] | H12: String, 3-character | I12: [App_countries] | J12: [App_countries] | K12: Drop down menu or open field with autocomplete function | L12: categorical | M12: Drop down menu/autocomplete field specifying d1.2 if d1.2 = 3. See the list of countries in the separate sheet "App_countries". | N12: =IF(D12="",N11,IF(AND(D12<>"",ISERROR(MATCH(D12,Var_view!$A$1:$A$646,0))),"Aggregated or removed for anonymization","")) -> Aggregated or removed for anonymization
A13: A | D13: d1_3 | F13: Present place of residence | G13: Where do you mainly live at present? | H13: Numeric | I13: 1 | J13: same place as during my study programme | K13: Single-choice question | L13: categorical | N13: =IF(D13="",N12,IF(AND(D13<>"",ISERROR(MATCH(D13,Var_view!$A$1:$A$646,0))),"Aggregated or removed for anonymization",""))
I14: 2 | J14: other place in COUNTRY, more specifically in […] (please enter the postal code here). | N14: =IF(D14="",N13,IF(AND(D14<>"",ISERROR(MATCH(D14,Var_view!$A$1:$A$646,0))),"Aggregated or removed for anonymization",""))
I15: 3 | J15: another place abroad, namely […] | N15: =IF(D15="",N14,IF(AND(D15<>"",ISERROR(MATCH(D15,Var_view!$A$1:$A$646,0))),"Aggregated or removed for anonymization",""))
A16: A | B16: d1.3 = 2 | C16: Respondents who reported to live in another place than the higher education institution in COUNTRY at present | D16: d1_3post | F16: Postal code of residence (if graduate lives in COUNTRY) | G16: in COUNTRY, more specifically in […] (please enter postal code here). | H16: String; Country code + NUTS level 3 | I16: [App_NUTS3] | J16: [App_NUTS3] | K16: Open text field | L16: categorical | M16: Open text field specifying d1.3 if d1.3 = 2. Please provide your data on NUTS level 3 (including country code). | N16: =IF(D16="",N15,IF(AND(D16<>"",ISERROR(MATCH(D16,Var_view!$A$1:$A$646,0))),"Aggregated or removed for anonymization","")) -> Aggregated or removed for anonymization
A17: A | B17: d1.3 = 3 | C17: Respondents who reported to live abroad at present | D17: d1_3cntr | F17: Country of residence (if graduate lives abroad) | G17: abroad, namely in […] | H17: String, 3-character | I17: [App_countries] | J17: [App_countries] | K17: Drop down menu or open field with autocomplete function | L17: categorical | M17: Drop down menu/autocomplete field specifying d1.3 if d1.3 = 3. See the list of countries in the separate sheet "App_countries". | N17: =IF(D17="",N16,IF(AND(D17<>"",ISERROR(MATCH(D17,Var_view!$A$1:$A$646,0))),"Aggregated or removed for anonymization","")) -> Aggregated or removed for anonymization
A18: B | B18: d1.3 = 2 OR d1.3 = 3 | C18: Respondents who reported to have moved after graduation | D18: D2 | F18: Reasons for moving to present place of residence (introduction) | G18: How important were the following reasons for you to move to your current place of residence? | M18: Introduction for D2 / questionnaire heading | N18: =IF(D18="",N17,IF(AND(D18<>"",ISERROR(MATCH(D18,Var_view!$A$1:$A$646,0))),"Aggregated or removed for anonymization","")) -> Aggregated or removed for anonymization
A19: B | B19: d1.3 = 2 OR d1.3 = 3 | C19: Respondents who reported to have moved after graduation | D19: d2a | E19: d2 | F19: Reasons for moving to present place of residence: partnership or family reasons | G19: partnership or family reasons | H19: Numeric | I19: 1 | J19: very important | K19: 5-point-Likert-Scale | L19: ordinal | N19: =IF(D19="",N18,IF(AND(D19<>"",ISERROR(MATCH(D19,Var_view!$A$1:$A$646,0))),"Aggregated or removed for anonymization",""))
I20: 2 | N20: =IF(D20="",N19,IF(AND(D20<>"",ISERROR(MATCH(D20,Var_view!$A$1:$A$646,0))),"Aggregated or removed for anonymization",""))
I21: 3 | N21: =IF(D21="",N20,IF(AND(D21<>"",ISERROR(MATCH(D21,Var_view!$A$1:$A$646,0))),"Aggregated or removed for anonymization",""))
I22: 4 | N22: =IF(D22="",N21,IF(AND(D22<>"",ISERROR(MATCH(D22,Var_view!$A$1:$A$646,0))),"Aggregated or removed for anonymization",""))
I23: 5 | J23: not at all important | N23: =IF(D23="",N22,IF(AND(D23<>"",ISERROR(MATCH(D23,Var_view!$A$1:$A$646,0))),"Aggregated or removed for anonymization",""))
A24: B | B24: d1.3 = 2 OR d1.3 = 3 | C24: Respondents who reported to have moved after graduation | D24: d2b | E24: d2 | F24: Reasons for moving to present place of residence: higher income prospects | G24: higher income prospects | H24: Numeric | I24: 1 | J24: very important | K24: 5-point-Likert-Scale | L24: ordinal | N24: =IF(D24="",N23,IF(AND(D24<>"",ISERROR(MATCH(D24,Var_view!$A$1:$A$646,0))),"Aggregated or removed for anonymization",""))
I25: 2 | N25: =IF(D25="",N24,IF(AND(D25<>"",ISERROR(MATCH(D25,Var_view!$A$1:$A$646,0))),"Aggregated or removed for anonymization",""))
I26: 3 | N26: =IF(D26="",N25,IF(AND(D26<>"",ISERROR(MATCH(D26,Var_view!$A$1:$A$646,0))),"Aggregated or removed for anonymization",""))
I27: 4 | N27: =IF(D27="",N26,IF(AND(D27<>"",ISERROR(MATCH(D27,Var_view!$A$1:$A$646,0))),"Aggregated or removed for anonymization",""))
I28: 5 | J28: not at all important | N28: =IF(D28="",N27,IF(AND(D28<>"",ISERROR(MATCH(D28,Var_view!$A$1:$A$646,0))),"Aggregated or removed for anonymization",""))
A29: B | B29: d1.3 = 2 OR d1.3 = 3 | C29: Respondents who reported to have moved after graduation | D29: d2c | E29: d2 | F29: Reasons for moving to present place of residence: better possibilities for higher or further qualification | G29: better possibilities for higher or further qualification | H29: Numeric | I29: 1 | J29: very important | K29: 5-point-Likert-Scale | L29: ordinal | N29: =IF(D29="",N28,IF(AND(D29<>"",ISERROR(MATCH(D29,Var_view!$A$1:$A$646,0))),"Aggregated or removed for anonymization",""))
I30: 2 | N30: =IF(D30="",N29,IF(AND(D30<>"",ISERROR(MATCH(D30,Var_view!$A$1:$A$646,0))),"Aggregated or removed for anonymization",""))
I31: 3 | N31: =IF(D31="",N30,IF(AND(D31<>"",ISERROR(MATCH(D31,Var_view!$A$1:$A$646,0))),"Aggregated or removed for anonymization",""))
I32: 4 | N32: =IF(D32="",N31,IF(AND(D32<>"",ISERROR(MATCH(D32,Var_view!$A$1:$A$646,0))),"Aggregated or removed for anonymization",""))
I33: 5 | J33: not at all important | N33: =IF(D33="",N32,IF(AND(D33<>"",ISERROR(MATCH(D33,Var_view!$A$1:$A$646,0))),"Aggregated or removed for anonymization",""))
A34: B | B34: d1.3 = 2 OR d1.3 = 3 | C34: Respondents who reported to have moved after graduation | D34: d2d | E34: d2 | F34: Reasons for moving to present place of residence: higher overall quality of life | G34: overall quality of life is higher in current place of residence | H34: Numeric | I34: 1 | J34: very important | K34: 5-point-Likert-Scale | L34: ordinal | N34: =IF(D34="",N33,IF(AND(D34<>"",ISERROR(MATCH(D34,Var_view!$A$1:$A$646,0))),"Aggregated or removed for anonymization",""))
I35: 2 | N35: =IF(D35="",N34,IF(AND(D35<>"",ISERROR(MATCH(D35,Var_view!$A$1:$A$646,0))),"Aggregated or removed for anonymization",""))
I36: 3 | N36: =IF(D36="",N35,IF(AND(D36<>"",ISERROR(MATCH(D36,Var_view!$A$1:$A$646,0))),"Aggregated or removed for anonymization",""))
I37: 4 | N37: =IF(D37="",N36,IF(AND(D37<>"",ISERROR(MATCH(D37,Var_view!$A$1:$A$646,0))),"Aggregated or removed for anonymization",""))
I38: 5 | J38: not at all important | N38: =IF(D38="",N37,IF(AND(D38<>"",ISERROR(MATCH(D38,Var_view!$A$1:$A$646,0))),"Aggregated or removed for anonymization",""))

Sheet E_Personal
A1: Module | B1: Filter conditions | C1: Target group (verbal) | D1: Variable name | E1: Item Block | F1: Variable Label | G1: Question text | H1: Values format | I1: Data set value | J1: Value labels (answer categories) | K1: Question type | L1: Variable scale | M1: Remarks | N1: Anonymization note
A2: A | D2: E | F2: Personal and social background | M2: Questionnaire heading
A3: A | D3: e1a | F3: Gender | G3: What is your gender? | H3: Numeric | I3: 1 | J3: male | K3: Single-choice question | L3: categorical | N3: =IF(D3="",N2,IF(AND(D3<>"",ISERROR(MATCH(D3,Var_view!$A$1:$A$646,0))),"Aggregated or removed for anonymization","")) -> Aggregated or removed for anonymization
I4: 2 | J4: female | N4: =IF(D4="",N3,IF(AND(D4<>"",ISERROR(MATCH(D4,Var_view!$A$1:$A$646,0))),"Aggregated or removed for anonymization","")) -> Aggregated or removed for anonymization
I5: 3 | J5: non-binary or other | N5: =IF(D5="",N4,IF(AND(D5<>"",ISERROR(MATCH(D5,Var_view!$A$1:$A$646,0))),"Aggregated or removed for anonymization","")) -> Aggregated or removed for anonymization
A6: A | D6: e2a_yr | F6: Year of birth | G6: When were you born? [YEAR] | H6: Numeric | I6: 1 | J6: before 1950 | K6: Drop down menu | L6: categorical | N6: =IF(D6="",N5,IF(AND(D6<>"",ISERROR(MATCH(D6,Var_view!$A$1:$A$646,0))),"Aggregated or removed for anonymization",""))
I7: 1950 | J7: 1950 | N7: =IF(D7="",N6,IF(AND(D7<>"",ISERROR(MATCH(D7,Var_view!$A$1:$A$646,0))),"Aggregated or removed for anonymization",""))
I8: 1951 | J8: 1951 | N8: =IF(D8="",N7,IF(AND(D8<>"",ISERROR(MATCH(D8,Var_view!$A$1:$A$646,0))),"Aggregated or removed for anonymization",""))
I9: 1952 | J9: 1952 | N9: =IF(D9="",N8,IF(AND(D9<>"",ISERROR(MATCH(D9,Var_view!$A$1:$A$646,0))),"Aggregated or removed for anonymization",""))
I10: 1953 | J10: 1953 | N10: =IF(D10="",N9,IF(AND(D10<>"",ISERROR(MATCH(D10,Var_view!$A$1:$A$646,0))),"Aggregated or removed for anonymization",""))
I11: 1954 | J11: 1954 | N11: =IF(D11="",N10,IF(AND(D11<>"",ISERROR(MATCH(D11,Var_view!$A$1:$A$646,0))),"Aggregated or removed for anonymization",""))
I12: 1955 | J12: 1955 | N12: =IF(D12="",N11,IF(AND(D12<>"",ISERROR(MATCH(D12,Var_view!$A$1:$A$646,0))),"Aggregated or removed for anonymization",""))
I13: 1956 | J13: 1956 | N13: =IF(D13="",N12,IF(AND(D13<>"",ISERROR(MATCH(D13,Var_view!$A$1:$A$646,0))),"Aggregated or removed for anonymization",""))
I14: 1957 | J14: 1957 | N14: =IF(D14="",N13,IF(AND(D14<>"",ISERROR(MATCH(D14,Var_view!$A$1:$A$646,0))),"Aggregated or removed for anonymization",""))
I15: 1958 | J15: 1958 | N15: =IF(D15="",N14,IF(AND(D15<>"",ISERROR(MATCH(D15,Var_view!$A$1:$A$646,0))),"Aggregated or removed for anonymization",""))
I16: 1959 | J16: 1959 | N16: =IF(D16="",N15,IF(AND(D16<>"",ISERROR(MATCH(D16,Var_view!$A$1:$A$646,0))),"Aggregated or removed for anonymization",""))
I17: 1960 | J17: 1960 | N17: =IF(D17="",N16,IF(AND(D17<>"",ISERROR(MATCH(D17,Var_view!$A$1:$A$646,0))),"Aggregated or removed for anonymization",""))
I18: 1961 | J18: 1961 | N18: =IF(D18="",N17,IF(AND(D18<>"",ISERROR(MATCH(D18,Var_view!$A$1:$A$646,0))),"Aggregated or removed for anonymization",""))
... I60: 2003 | J60: 2003 | N60: =IF(D60="",N59,IF(AND(D60<>"",ISERROR(MATCH(D60,Var_view!$A$1:$A$646,0))),"Aggregated or removed for anonymization",""))
A61: A | D61: e2a_mo | F61: Month of birth | G61: When were you born? [MONTH] | H61: Numeric | I61: 1 | J61: January | K61: Drop down menu | L61: categorical | N61: =IF(D61="",N60,IF(AND(D61<>"",ISERROR(MATCH(D61,Var_view!$A$1:$A$646,0))),"Aggregated or removed for anonymization",""))
I62: 2 | J62: Febuary | N62: =IF(D62="",N61,IF(AND(D62<>"",ISERROR(MATCH(D62,Var_view!$A$1:$A$646,0))),"Aggregated or removed for anonymization",""))
I63: 3 | J63: March | N63: =IF(D63="",N62,IF(AND(D63<>"",ISERROR(MATCH(D63,Var_view!$A$1:$A$646,0))),"Aggregated or removed for anonymization",""))
I64: 4 | J64: April | N64: =IF(D64="",N63,IF(AND(D64<>"",ISERROR(MATCH(D64,Var_view!$A$1:$A$646,0))),"Aggregated or removed for anonymization",""))
I65: 5 | J65: May | N65: =IF(D65="",N64,IF(AND(D65<>"",ISERROR(MATCH(D65,Var_view!$A$1:$A$646,0))),"Aggregated or removed for anonymization",""))
I66: 6 | J66: June | N66: =IF(D66="",N65,IF(AND(D66<>"",ISERROR(MATCH(D66,Var_view!$A$1:$A$646,0))),"Aggregated or removed for anonymization",""))
I67: 7 | J67: July | N67: =IF(D67="",N66,IF(AND(D67<>"",ISERROR(MATCH(D67,Var_view!$A$1:$A$646,0))),"Aggregated or removed for anonymization",""))
I68: 8 | J68: August | N68: =IF(D68="",N67,IF(AND(D68<>"",ISERROR(MATCH(D68,Var_view!$A$1:$A$646,0))),"Aggregated or removed for anonymization",""))
I69: 9 | J69: September | N69: =IF(D69="",N68,IF(AND(D69<>"",ISERROR(MATCH(D69,Var_view!$A$1:$A$646,0))),"Aggregated or removed for anonymization",""))
I70: 10 | J70: October | N70: =IF(D70="",N69,IF(AND(D70<>"",ISERROR(MATCH(D70,Var_view!$A$1:$A$646,0))),"Aggregated or removed for anonymization",""))
I71: 11 | J71: November | N71: =IF(D71="",N70,IF(AND(D71<>"",ISERROR(MATCH(D71,Var_view!$A$1:$A$646,0))),"Aggregated or removed for anonymization",""))
I72: 12 | J72: December | N72: =IF(D72="",N71,IF(AND(D72<>"",ISERROR(MATCH(D72,Var_view!$A$1:$A$646,0))),"Aggregated or removed for anonymization",""))
A73: A | D73: e3a1 | F73: Citizenship | G73: Of which country do you have a citizenship? If you have multiple citizenships, please select up to three that you feel are most relevant. | H73: String, 3-character | I73: App_countries | J73: App_countries | K73: Drop down menu or open field with autocomplete function | L73: categorical | M73: See the list of countries in the separate sheet "App_countries". | N73: =IF(D73="",N72,IF(AND(D73<>"",ISERROR(MATCH(D73,Var_view!$A$1:$A$646,0))),"Aggregated or removed for anonymization",""))
A74: A | D74: e3a2 | F74: 2nd citizenship | G74: Of which country do you have a citizenship? If you have multiple citizenships, please select up to three that you feel are most relevant. | H74: String, 3-character | I74: App_countries | J74: App_countries | K74: Drop down menu or open field with autocomplete function | L74: categorical | M74: Create an additional variable for multiple citzenships. | N74: =IF(D74="",N73,IF(AND(D74<>"",ISERROR(MATCH(D74,Var_view!$A$1:$A$646,0))),"Aggregated or removed for anonymization",""))
A75: A | D75: e3a3 | F75: 3rd citizenship | G75: Of which country do you have a citizenship? If you have multiple citizenships, please select up to three that you feel are most relevant. | H75: String, 3-character | I75: App_countries | J75: App_countries | K75: Drop down menu or open field with autocomplete function | L75: categorical | M75: Create an additional variable for multiple citzenships. | N75: =IF(D75="",N74,IF(AND(D75<>"",ISERROR(MATCH(D75,Var_view!$A$1:$A$646,0))),"Aggregated or removed for anonymization",""))
A76: A | D76: e4a | F76: Country of birth | G76: Where were you born? In your answer, please refer to today's borders. | H76: String, 3-character | I76: App_countries | J76: App_countries | K76: Drop down menu or open field with autocomplete function | L76: categorical | M76: See the list of countries in the separate sheet "App_countries". | N76: =IF(D76="",N75,IF(AND(D76<>"",ISERROR(MATCH(D76,Var_view!$A$1:$A$646,0))),"Aggregated or removed for anonymization",""))
A77: B | D77: e5 | F77: Country of birth parents (instruction) | G77: Where were your parents or guardians born? In your answer, please refer to today's borders. | N77: =IF(D77="",N76,IF(AND(D77<>"",ISERROR(MATCH(D77,Var_view!$A$1:$A$646,0))),"Aggregated or removed for anonymization","")) -> Aggregated or removed for anonymization
A78: B | D78: e5a | F78: Country of birth mother/female guardian | G78: Mother or female guardian | H78: String, 3-character | I78: App_countries | J78: App_countries | K78: Drop down menu or open field with autocomplete function | L78: categorical | M78: See the list of countries in the separate sheet "App_countries". | N78: =IF(D78="",N77,IF(AND(D78<>"",ISERROR(MATCH(D78,Var_view!$A$1:$A$646,0))),"Aggregated or removed for anonymization",""))
A79: B | D79: e5b | F79: Country of birth father/male guardian | G79: Father or male guardian | H79: String, 3-character | I79: App_countries | J79: App_countries | K79: Drop down menu or open field with autocomplete function | L79: categorical | M79: See the list of countries in the separate sheet "App_countries". | N79: =IF(D79="",N78,IF(AND(D79<>"",ISERROR(MATCH(D79,Var_view!$A$1:$A$646,0))),"Aggregated or removed for anonymization",""))
A80: B | D80: e6_1 | F80: Native language | G80: What is your native language? If you grew up with more than one language, please select up to three languages that you feel were most relevant. | H80: String, 3-character | I80: App_languages | J80: App_languages | K80: Drop down menu or open field with autocomplete function | L80: categorical | M80: Use this variable for the first native language reported. See the list of languages in the separate sheet "App_languages". | N80: =IF(D80="",N79,IF(AND(D80<>"",ISERROR(MATCH(D80,Var_view!$A$1:$A$646,0))),"Aggregated or removed for anonymization","")) -> Aggregated or removed for anonymization
A81: B | D81: e6_2 | F81: 2nd native language | G81: What is your native language? If you grew up with more than one language, please select up to three languages that you feel were most relevant. | H81: String, 3-character | I81: App_languages | J81: App_languages | K81: Drop down menu or open field with autocomplete function | L81: categorical | M81: Create an additional variable for multiple native languages. | N81: =IF(D81="",N80,IF(AND(D81<>"",ISERROR(MATCH(D81,Var_view!$A$1:$A$646,0))),"Aggregated or removed for anonymization","")) -> Aggregated or removed for anonymization
...

Sheet F_EUModule
A1: Module | B1: Filter conditions | C1: Target group (verbal) | D1: Variable name | E1: Item Block | F1: Variable Label | G1: Question text | H1: Values format | I1: Data set value | J1: Value labels (answer categories) | K1: Question type | L1: Variable scale | M1: Remarks | N1: Anonymization note
A2: C | D2: F1 | F2: Personal life (instruction) | G2: Finally, we would like to ask you some questions on your personal life and the society at large
A3: C | D3: f1_1 | F3: Personal life: Satisfaction | G3: All things considered, how satisfied are you with your life as a whole nowadays? | H3: Numeric | I3: 0 | J3: extremely dissatisfied | K3: 11-point-Likert-Scale | L3: ordinal | N3: =IF(D3="",N2,IF(AND(D3<>"",ISERROR(MATCH(D3,Var_view!$A$1:$A$646,0))),"Aggregated or removed for anonymization",""))
I4: 1
I5: 2
I6: 3
I7: 4
I8: 5
I9: 6
I10: 7
I11: 8
I12: 9
I13: 10 | J13: extremely satisfied
A14: C | D14: f1_3 | F14: Personal life: Trust | G14: In your opinion, to what extent is it generally possible to trust people? | H14: Numeric | I14: 0 | J14: people cannot generally be trusted | K14: 11-point-Likert-Scale | L14: ordinal
I15: 1
I16: 2
I17: 3
I18: 4
I19: 5
I20: 6
I21: 7
I22: 8
I23: 9
I24: 10 | J24: people can generally be trusted
D25: F2 | F25: Political attitudes and political participation
A26: C | D26: f2_1 | F26: Politics: Interest | G26: How interested would you say you are in politics? | H26: Numeric | I26: 1 | J26: very interested | K26: 5-point-Likert-Scale | L26: ordinal
I27: 2
I28: 3
I29: 4
I30: 5 | J30: not at all interested
A31: C | D31: f2_2 | F31: Politics: People's influence | G31: How much would you say that the political system in COUNTRY allows people like you to have an influence on politics? | H31: Numeric | I31: 1 | J31: not al all | K31: 5-point-Likert-Scale | L31: ordinal
I32: 2 | J32: very little
I33: 3 | J33: some
I34: 4 | J34: a lot
I35: 5 | J35: a great deal
A36: C | D36: f2_3 | F36: Politics: Individual participation | G36: How confident are you in your own ability to participate in politics? | H36: Numeric | I36: 1 | J36: not al all confident | K36: 5-point-Likert-Scale | L36: ordinal
I37: 2 | J37: a little confident
I38: 3 | J38: quite confident
I39: 4 | J39: very confident
I40: 5 | J40: completely confident
...

Sheet G_Finalquestions
A1: Module | B1: Filter conditions | C1: Target group (verbal) | D1: Variable name | E1: Item Block | F1: Variable Label | G1: Question text | H1: Values format | I1: Data set value | J1: Value labels (answer categories) | K1: Question type | L1: Variable scale | M1: Remarks | N1: Anonymization note
A2: A | D2: g1 | F2: Follow-up survey (instruction) | G2: A follow-up survey of EUROGRADUATE is envisaged to better understand how study experiences of graduates contribute to their long-term development. | M2: Instruction for g1
A3: A | D3: g1a | F3: Follow-up survey: Willingness to participate | G3: Would you be ready to participate in a future survey and thus help improving higher education in COUNTRY? | H3: Numeric | I3: 1 | J3: yes | K3: Single-choice question | L3: categorical (dichotomous) | N3: =IF(D3="",N2,IF(AND(D3<>"",ISERROR(MATCH(D3,Var_view!$A$1:$A$646,0))),"Aggregated or removed for anonymization",""))
I4: 0 | J4: no | N4: =IF(D4="",N3,IF(AND(D4<>"",ISERROR(MATCH(D4,Var_view!$A$1:$A$646,0))),"Aggregated or removed for anonymization",""))
A5: A | B5: g1a = 1 | C5: Respondents who stated to be ready to participate in a follow-up survey | D5: g1b | F5: Follow-up survey: E-Mail adress | G5: Please provide us with your e-mail address to ensure that you can be contacted for further EUROGRADUATE surveys. Your e-mail address will be kept separate from your survey responses and will be treated confidentially. | H5: String | K5: Open text field | L5: categorical | N5: =IF(D5="",N4,IF(AND(D5<>"",ISERROR(MATCH(D5,Var_view!$A$1:$A$646,0))),"Aggregated or removed for anonymization","")) -> Aggregated or removed for anonymization
A6: A | D6: g2 (not included in EG dataset) | F6: Acknowledgement/Remarks | G6: Thank you very much for filling in the questionnaire! If you have any remaining remarks, please state them here: | H6: Open text | K6: Open text field | L6: categorical | M6: This variable requires manual recoding into the target variable(s) and will not be included in the EG dataset. | N6: =IF(D6="",N5,IF(AND(D6<>"",ISERROR(MATCH(D6,Var_view!$A$1:$A$646,0))),"Aggregated or removed for anonymization","")) -> Aggregated or removed for anonymization
A7: A | D7: g2a | F7: Questionnaire too long / time-consuming (Acknowledgement/Remarks) | G7: Thank you very much for filling in the questionnaire! If you have any remaining remarks, please state them here: | H7: Numeric | I7: 1 | J7: Mentioned | K7: Derived from open text field | L7: categorical (dichotomous) | M7: Apply the open field coding instructions provided in the data cleaning guidelines for coding this variable. | N7: =IF(D7="",N6,IF(AND(D7<>"",ISERROR(MATCH(D7,Var_view!$A$1:$A$646,0))),"Aggregated or removed for anonymization","")) -> Aggregated or removed for anonymization
I8: 0 | J8: Not mentioned | N8: =IF(D8="",N7,IF(AND(D8<>"",ISERROR(MATCH(D8,Var_view!$A$1:$A$646,0))),"Aggregated or removed for anonymization","")) -> Aggregated or removed for anonymization
A9: A | D9: g2b | F9: Technical error(s) experienced (Acknowledgement/Remarks) | G9: Thank you very much for filling in the questionnaire! If you have any remaining remarks, please state them here: | H9: Numeric | I9: 1 | J9: Mentioned | K9: Derived from open text field | L9: categorical (dichotomous) | M9: Apply the open field coding instructions provided in the data cleaning guidelines for coding this variable. | N9: =IF(D9="",N8,IF(AND(D9<>"",ISERROR(MATCH(D9,Var_view!$A$1:$A$646,0))),"Aggregated or removed for anonymization","")) -> Aggregated or removed for anonymization
I10: 0 | J10: Not mentioned | N10: =IF(D10="",N9,IF(AND(D10<>"",ISERROR(MATCH(D10,Var_view!$A$1:$A$646,0))),"Aggregated or removed for anonymization","")) -> Aggregated or removed for anonymization
A11: A | D11: g2c | F11: Complaints about answers being challenging to remember (Acknowledgement/Remarks) | G11: Thank you very much for filling in the questionnaire! If you have any remaining remarks, please state them here: | H11: Numeric | I11: 1 | J11: Mentioned | K11: Derived from open text field | L11: categorical (dichotomous) | M11: Apply the open field coding instructions provided in the data cleaning guidelines for coding this variable. | N11: =IF(D11="",N10,IF(AND(D11<>"",ISERROR(MATCH(D11,Var_view!$A$1:$A$646,0))),"Aggregated or removed for anonymization","")) -> Aggregated or removed for anonymization
I12: 0 | J12: Not mentioned | N12: =IF(D12="",N11,IF(AND(D12<>"",ISERROR(MATCH(D12,Var_view!$A$1:$A$646,0))),"Aggregated or removed for anonymization","")) -> Aggregated or removed for anonymization
A13: A | D13: g2d | F13: Complaints about sensitive topics, “ideological research” or similar (Acknowledgement/Remarks) | G13: Thank you very much for filling in the questionnaire! If you have any remaining remarks, please state them here: | H13: Numeric | I13: 1 | J13: Mentioned | K13: Derived from open text field | L13: categorical (dichotomous) | M13: Apply the open field coding instructions provided in the data cleaning guidelines for coding this variable. | N13: =IF(D13="",N12,IF(AND(D13<>"",ISERROR(MATCH(D13,Var_view!$A$1:$A$646,0))),"Aggregated or removed for anonymization","")) -> Aggregated or removed for anonymization
I14: 0 | J14: Not mentioned | N14: =IF(D14="",N13,IF(AND(D14<>"",ISERROR(MATCH(D14,Var_view!$A$1:$A$646,0))),"Aggregated or removed for anonymization","")) -> Aggregated or removed for anonymization
A15: A | D15: g2e | F15: Remarks about missing categories and the way questions are asked (Acknowledgement/Remarks) | G15: Thank you very much for filling in the questionnaire! If you have any remaining remarks, please state them here: | H15: Numeric | I15: 1 | J15: Mentioned | K15: Derived from open text field | L15: categorical (dichotomous) | M15: Apply the open field coding instructions provided in the data cleaning guidelines for coding this variable. | N15: =IF(D15="",N14,IF(AND(D15<>"",ISERROR(MATCH(D15,Var_view!$A$1:$A$646,0))),"Aggregated or removed for anonymization","")) -> Aggregated or removed for anonymization
I16: 0 | J16: Not mentioned | N16: =IF(D16="",N15,IF(AND(D16<>"",ISERROR(MATCH(D16,Var_view!$A$1:$A$646,0))),"Aggregated or removed for anonymization","")) -> Aggregated or removed for anonymization
